BEGIN:VCALENDAR
VERSION:2.0
PRODID:-//Tukios.com/
BEGIN:VEVENT
UID:c32eeba1-6c2f-4db5-ae84-163ee26e57c9@www.burkhead-green-kilgo.com
DTSTAMP:20260424T200031Z
DTSTART:20260506T180000Z
DTEND:20260506T190000Z
SUMMARY:Graveside Service
DESCRIPTION:
URL:https://www.burkhead-green-kilgo.com/obituaries/sandra-petty
LOCATION:Bosworth Cemetery 6737 Stine Road  Olivet MI 49076
GEO:42.4690394;-84.8942453
END:VEVENT
END:VCALENDAR