BEGIN:VCALENDAR
VERSION:2.0
PRODID:-//Tukios.com/
BEGIN:VEVENT
UID:e0b6f0d5-8916-44d3-ba10-2d93ce9ed9b4@www.burkhead-green-kilgo.com
DTSTAMP:20260420T181059Z
DTSTART:20260425T170000Z
DTEND:20260425T180000Z
SUMMARY:Memorial Service
DESCRIPTION:
URL:https://www.burkhead-green-kilgo.com/obituaries/lanny-rowe
LOCATION: 206 W. Lawrence Ave  Charlotte MI 48813
GEO:42.5642458;-84.8377264
END:VEVENT
END:VCALENDAR