BEGIN:VCALENDAR
VERSION:2.0
PRODID:-//Tukios.com/
BEGIN:VEVENT
UID:0bf8a3b6-55a0-49f2-a0e9-8cba2132b7af@www.burkhead-green-kilgo.com
DTSTAMP:20260421T204946Z
DTSTART:20260427T190000Z
DTEND:20260427T200000Z
SUMMARY:Graveside Service
DESCRIPTION:
URL:https://www.burkhead-green-kilgo.com/obituaries/helen-ripley
LOCATION:Strong Cemetery 1419 17 Mile Road  Barryton MI 49340
GEO:43.7110921;-85.1119946
END:VEVENT
END:VCALENDAR