BEGIN:VCALENDAR
VERSION:2.0
PRODID:-//Tukios.com/
BEGIN:VEVENT
UID:2aff3352-0324-442b-a9db-a3e6beb0ed17@www.burkhead-green-kilgo.com
DTSTAMP:20260421T205139Z
DTSTART:20260427T160000Z
DTEND:20260427T170000Z
SUMMARY:Funeral Service
DESCRIPTION:
URL:https://www.burkhead-green-kilgo.com/obituaries/helen-ripley
LOCATION:Burkhead-Green-Kilgo Funeral Home 206 W. Lawrence Ave  Charlotte 
	MI 48813
GEO:42.5642458;-84.8377264
END:VEVENT
END:VCALENDAR