BEGIN:VCALENDAR
VERSION:2.0
PRODID:-//Tukios.com/
BEGIN:VEVENT
UID:3aa88e01-2f3c-4252-b52e-520c2fba5fca@www.burkhead-green-kilgo.com
DTSTAMP:20260421T205057Z
DTSTART:20260427T150000Z
DTEND:20260427T160000Z
SUMMARY:Visitation
DESCRIPTION:
URL:https://www.burkhead-green-kilgo.com/obituaries/helen-ripley
LOCATION:Burkhead-Green-Kilgo Funeral Home 206 W. Lawrence Ave  Charlotte 
	MI 48813
GEO:42.5642458;-84.8377264
END:VEVENT
END:VCALENDAR